BEGIN:VCALENDAR
VERSION:2.0
PRODID:icalendar-ruby
CALSCALE:GREGORIAN
METHOD:PUBLISH
BEGIN:VEVENT
DTSTAMP:20260419T115615Z
UID:152-1249075@mmntm.church
DTSTART:20260422T160000Z
DTEND:20260422T180000Z
CLASS:PUBLIC
CREATED:20260404T100041
DESCRIPTION:Let your kids get some energy out while you have pastries with 
 other moms.\nBounce house inside for kids 2 to 10 years old.\nPlease regis
 ter at info@mmntm.church or 509-684-4721.
LAST-MODIFIED:20260404T100041
LOCATION:516 E. Glen Ave.\, Colville WA
SUMMARY:Wacky Wednesday
URL;VALUE=URI:https://www.mmntm.church/events/wacky-wednesday--152/2026-04-
 22
ATTACH;FILENAME=Wacky Wednesday Slide.png;FMTTYPE=image/png:https://dq5pwpg
 1q8ru0.cloudfront.net/2026/04/04/17/00/41/0e3dff47-56ae-4929-bf14-f1c800c8
 11ac/Wacky%20Wednesday%20Slide.png
END:VEVENT
END:VCALENDAR
